BEGIN:VCALENDAR
VERSION:2.0
PRODID:-//hacksw/handcal//NONSGML v1.0//EN
BEGIN:VEVENT
SUMMARY:Horaires Vacances de Printemps 2eme Semaine
UID:685ee4d0-08dc-42ff-966f-cc5c9038d970
DTSTART:20260420T220000Z
DTEND:20260423T220000Z
LOCATION:Localisation   
CATEGORIES:Sportif
STATUS:
DESCRIPTION:<p style="text-align:center;">Vacances de Printemps
 2026</p>
 
 <p style="text-align:center;">Horaires des Seances</p>
 
 <p
 style="text-align:center;">Entree et sortie des vestiaires</p>
 
 <p
 style="text-align:center;"> </p>
 
 <p
 style="text-align:center;"><b>Deuxieme Semaine :</b></p>
 
 <p
 style="text-align:center;">Mardi 21 Avril :</p>
 
 <p
 style="text-align:center;">Groupe Competition : 16h00 a 18h45</p>
 
 <p
 style="text-align:center;">Groupe Maitres: 18h45 a 20h45</p>
 
 <p
 style="text-align:center;">Perfectionnement Maitres : 20h15 a
 21h45</p>
 
 <p style="text-align:center;"> </p>
 
 <p
 style="text-align:center;">Mercredi 22 Avril :</p>
 
 <p
 style="text-align:center;">Groupe Competition : 16h00 a 18h45</p>
 
 <p
 style="text-align:center;">Groupe Maitres: 18h45 a 20h45</p>
 
 <p
 style="text-align:center;"> </p>
 
 <p
 style="text-align:center;">Jeudi 23 Avril :</p>
 
 <p
 style="text-align:center;">Competition : 16h00 a 18h45</p>
 
 <p
 style="text-align:center;">Maitres : 18h30 a 20h00</p>
URL;VALUE=URI:https://www.haguenatation.com/evenements/2026/04/21/horaires-vacances-de-printemps-2eme-semaine-2360424
END:VEVENT
END:VCALENDAR
