BEGIN:VCALENDAR
VERSION:2.0
PRODID:-//hacksw/handcal//NONSGML v1.0//EN
BEGIN:VEVENT
SUMMARY:Horaires Vacances de Printemps 1ere Semaine
UID:0878b4cd-b285-4833-a3e0-d323ee9106ee
DTSTART:20260413T220000Z
DTEND:20260416T220000Z
LOCATION:Localisation   
CATEGORIES:Sportif
STATUS:
DESCRIPTION:<p style="text-align:center;">Vacances de Printemps
 2026</p>
 
 <p style="text-align:center;">Horaires des Seances</p>
 
 <p
 style="text-align:center;">Entree et sortie des vestiaires</p>
 
 <p
 style="text-align:center;"> </p>
 
 <p
 style="text-align:center;"> <b>Premiere Semaine :</b></p>
 
 <p
 style="text-align:center;">Mardi 14 Avril :</p>
 
 <p
 style="text-align:center;">Groupe Competition : 16h00 a 18h45</p>
 
 <p
 style="text-align:center;">Groupe Maitres: 18h45 a 20h45</p>
 
 <p
 style="text-align:center;">Perfectionnement Maitres : 20h15 a
 21h45</p>
 
 <p style="text-align:center;"> </p>
 
 <p
 style="text-align:center;">Mercredi 15 Avril :</p>
 
 <p
 style="text-align:center;">Groupe Competition : 16h00 a
 18h45</p>
 
 <p style="text-align:center;">Groupe Maitres: 18h45 a
 20h45</p>
 
 <p style="text-align:center;"> </p>
 
 <p
 style="text-align:center;">Jeudi 16 Avril :</p>
 
 <p
 style="text-align:center;">Competition : 16h00 a 18h45</p>
 
 <p
 style="text-align:center;">Maitres : 18h30 a 20h00</p>
URL;VALUE=URI:https://www.haguenatation.com/evenements/2026/04/14/horaires-vacances-de-printemps-1ere-semaine-2360423
END:VEVENT
END:VCALENDAR
